BEGIN:VCALENDAR
VERSION:2.0
PRODID:-//stalexanderpalos.org - ECPv6.2.0.1//NONSGML v1.0//EN
CALSCALE:GREGORIAN
METHOD:PUBLISH
X-WR-CALNAME:stalexanderpalos.org
X-ORIGINAL-URL:https://stalexanderpalos.org
X-WR-CALDESC:Events for stalexanderpalos.org
REFRESH-INTERVAL;VALUE=DURATION:PT1H
X-Robots-Tag:noindex
X-PUBLISHED-TTL:PT1H
BEGIN:VTIMEZONE
TZID:America/Chicago
BEGIN:DAYLIGHT
TZOFFSETFROM:-0600
TZOFFSETTO:-0500
TZNAME:CDT
DTSTART:20170312T080000
END:DAYLIGHT
BEGIN:STANDARD
TZOFFSETFROM:-0500
TZOFFSETTO:-0600
TZNAME:CST
DTSTART:20171105T070000
END:STANDARD
END:VTIMEZONE
BEGIN:VEVENT
DTSTART;TZID=America/Chicago:20170803T043000
DTEND;TZID=America/Chicago:20170803T180000
DTSTAMP:20260420T002319
CREATED:20170803T011821Z
LAST-MODIFIED:20170803T011926Z
UID:999-1501734600-1501783200@stalexanderpalos.org
SUMMARY:Eucharistic Adoration
DESCRIPTION:
URL:https://stalexanderpalos.org/events/eucharistic-adoration/
END:VEVENT
BEGIN:VEVENT
DTSTART;TZID=America/Chicago:20170805T030000
DTEND;TZID=America/Chicago:20170805T060000
DTSTAMP:20260420T002319
CREATED:20170803T015149Z
LAST-MODIFIED:20170803T015323Z
UID:1020-1501902000-1501912800@stalexanderpalos.org
SUMMARY:Walk Against Domestic Violence
DESCRIPTION:
URL:https://stalexanderpalos.org/events/1020/
END:VEVENT
BEGIN:VEVENT
DTSTART;TZID=America/Chicago:20170805T113000
DTEND;TZID=America/Chicago:20170805T143000
DTSTAMP:20260420T002319
CREATED:20170803T015605Z
LAST-MODIFIED:20170803T015605Z
UID:1025-1501932600-1501943400@stalexanderpalos.org
SUMMARY:Prayer and Ministry Night
DESCRIPTION:
URL:https://stalexanderpalos.org/events/prayer-and-ministry-night-2/
END:VEVENT
BEGIN:VEVENT
DTSTART;VALUE=DATE:20170807
DTEND;VALUE=DATE:20170809
DTSTAMP:20260420T002319
CREATED:20170803T010546Z
LAST-MODIFIED:20170803T010546Z
UID:989-1502132400-1502218799@stalexanderpalos.org
SUMMARY:Blue Army Prayer Group Meeting
DESCRIPTION:
URL:https://stalexanderpalos.org/events/blue-army-prayer-group-meeting-2/
END:VEVENT
BEGIN:VEVENT
DTSTART;TZID=America/Chicago:20170809T140000
DTEND;TZID=America/Chicago:20170809T160000
DTSTAMP:20260420T002319
CREATED:20170803T020950Z
LAST-MODIFIED:20170803T020950Z
UID:1028-1502287200-1502294400@stalexanderpalos.org
SUMMARY:Knights of Columbus Monthly Meeting
DESCRIPTION:
URL:https://stalexanderpalos.org/events/knights-of-columbus-monthly-meeting-2/
END:VEVENT
BEGIN:VEVENT
DTSTART;TZID=America/Chicago:20170809T140000
DTEND;TZID=America/Chicago:20170809T160000
DTSTAMP:20260420T002319
CREATED:20170810T011554Z
LAST-MODIFIED:20170803T015417Z
UID:993-1502287200-1502294400@stalexanderpalos.org
SUMMARY:Knights of Columbus Monthly Meeting
DESCRIPTION:
URL:https://stalexanderpalos.org/events/knights-of-columbus-monthly-meeting/
END:VEVENT
BEGIN:VEVENT
DTSTART;TZID=America/Chicago:20170812T130500
DTEND;TZID=America/Chicago:20170812T173000
DTSTAMP:20260420T002319
CREATED:20170803T010735Z
LAST-MODIFIED:20170803T010735Z
UID:991-1502543100-1502559000@stalexanderpalos.org
SUMMARY:Knights of Columbus Thunderbolts Outing
DESCRIPTION:
URL:https://stalexanderpalos.org/events/knights-of-columbus-thunderbolts-outing/
END:VEVENT
BEGIN:VEVENT
DTSTART;TZID=America/Chicago:20170813T140000
DTEND;TZID=America/Chicago:20170813T153000
DTSTAMP:20260420T002319
CREATED:20170803T014900Z
LAST-MODIFIED:20170803T014900Z
UID:1017-1502632800-1502638200@stalexanderpalos.org
SUMMARY:Pray the Rosary
DESCRIPTION:
URL:https://stalexanderpalos.org/events/pray-the-rosary/
END:VEVENT
BEGIN:VEVENT
DTSTART;TZID=America/Chicago:20170814T140000
DTEND;TZID=America/Chicago:20170814T150000
DTSTAMP:20260420T002319
CREATED:20170808T021505Z
LAST-MODIFIED:20170808T021505Z
UID:1044-1502719200-1502722800@stalexanderpalos.org
SUMMARY:Vigil: The Feast of the Assumption of the Blessed Virgin Mary
DESCRIPTION:
URL:https://stalexanderpalos.org/events/vigil-the-feast-of-the-assumption-of-the-blessed-virgin-mary/
END:VEVENT
BEGIN:VEVENT
DTSTART;VALUE=DATE:20170814
DTEND;VALUE=DATE:20170816
DTSTAMP:20260420T002319
CREATED:20170803T021315Z
LAST-MODIFIED:20170803T021315Z
UID:1030-1502737200-1502823599@stalexanderpalos.org
SUMMARY:The Assumption of the Blessed Virgin Mary (A Holy Day of Obligation)
DESCRIPTION:
URL:https://stalexanderpalos.org/events/the-assumption-of-the-blessed-virgin-mary-a-holy-day-of-obligation/
END:VEVENT
BEGIN:VEVENT
DTSTART;VALUE=DATE:20170814
DTEND;VALUE=DATE:20170816
DTSTAMP:20260420T002319
CREATED:20170808T021652Z
LAST-MODIFIED:20170808T021652Z
UID:1047-1502737200-1502823599@stalexanderpalos.org
SUMMARY:The Feast of the Assumption of the Blessed Virgin Mary
DESCRIPTION:
URL:https://stalexanderpalos.org/events/the-feast-of-the-assumption-of-the-blessed-virgin-mary/
END:VEVENT
BEGIN:VEVENT
DTSTART;TZID=America/Chicago:20170815T144500
DTEND;TZID=America/Chicago:20170815T160000
DTSTAMP:20260420T002319
CREATED:20170803T013425Z
LAST-MODIFIED:20170803T013535Z
UID:1002-1502808300-1502812800@stalexanderpalos.org
SUMMARY:Baby Shower for Spiritually Adopted Babies
DESCRIPTION:
URL:https://stalexanderpalos.org/events/baby-shower-for-spiritually-adopted-babies/
END:VEVENT
BEGIN:VEVENT
DTSTART;TZID=America/Chicago:20170819T030000
DTEND;TZID=America/Chicago:20170819T070000
DTSTAMP:20260420T002319
CREATED:20170803T010317Z
LAST-MODIFIED:20170803T010317Z
UID:985-1503111600-1503126000@stalexanderpalos.org
SUMMARY:The 100th Anniversary of the 4th Apparition of Our Lady of Fatima
DESCRIPTION:
URL:https://stalexanderpalos.org/events/the-100th-anniversary-of-the-4th-apparition-of-our-lady-of-fatima/
END:VEVENT
BEGIN:VEVENT
DTSTART;TZID=America/Chicago:20170823T030000
DTEND;TZID=America/Chicago:20170823T080000
DTSTAMP:20260420T002319
CREATED:20170803T021549Z
LAST-MODIFIED:20170815T002734Z
UID:1033-1503457200-1503475200@stalexanderpalos.org
SUMMARY:First Day of School - Half Day
DESCRIPTION:
URL:https://stalexanderpalos.org/events/first-day-of-school/
END:VEVENT
BEGIN:VEVENT
DTSTART;TZID=America/Chicago:20170824T030000
DTEND;TZID=America/Chicago:20170824T094000
DTSTAMP:20260420T002319
CREATED:20170803T021656Z
LAST-MODIFIED:20170815T002449Z
UID:1035-1503543600-1503567600@stalexanderpalos.org
SUMMARY:First Full Day of School for K-8
DESCRIPTION:
URL:https://stalexanderpalos.org/events/first-full-day-of-school-for-k-8/
END:VEVENT
BEGIN:VEVENT
DTSTART;TZID=America/Chicago:20170831T041500
DTEND;TZID=America/Chicago:20170831T041500
DTSTAMP:20260420T002319
CREATED:20170825T015705Z
LAST-MODIFIED:20170825T015721Z
UID:1077-1504152900-1504152900@stalexanderpalos.org
SUMMARY:Eucharistic Adoration
DESCRIPTION:
URL:https://stalexanderpalos.org/events/eucharistic-adoration-2/
END:VEVENT
END:VCALENDAR