BEGIN:VCALENDAR
VERSION:2.0
PRODID:-//stalexanderpalos.org - ECPv6.2.0.1//NONSGML v1.0//EN
CALSCALE:GREGORIAN
METHOD:PUBLISH
X-ORIGINAL-URL:https://stalexanderpalos.org
X-WR-CALDESC:Events for stalexanderpalos.org
REFRESH-INTERVAL;VALUE=DURATION:PT1H
X-Robots-Tag:noindex
X-PUBLISHED-TTL:PT1H
BEGIN:VTIMEZONE
TZID:America/Chicago
BEGIN:DAYLIGHT
TZOFFSETFROM:-0600
TZOFFSETTO:-0500
TZNAME:CDT
DTSTART:20170312T080000
END:DAYLIGHT
BEGIN:STANDARD
TZOFFSETFROM:-0500
TZOFFSETTO:-0600
TZNAME:CST
DTSTART:20171105T070000
END:STANDARD
END:VTIMEZONE
BEGIN:VEVENT
DTSTART;TZID=America/Chicago:20170511T130000
DTEND;TZID=America/Chicago:20170511T150000
DTSTAMP:20260420T061626
CREATED:20170321T213938Z
LAST-MODIFIED:20170426T000842Z
UID:518-1494507600-1494514800@stalexanderpalos.org
SUMMARY:Raider 5K Run/Walk
DESCRIPTION:Click here to register
URL:https://stalexanderpalos.org/events/5k/
END:VEVENT
BEGIN:VEVENT
DTSTART;TZID=America/Chicago:20170513T140000
DTEND;TZID=America/Chicago:20170513T180000
DTSTAMP:20260420T061626
CREATED:20170404T064137Z
LAST-MODIFIED:20170412T011600Z
UID:584-1494684000-1494698400@stalexanderpalos.org
SUMMARY:Comedy Night
DESCRIPTION:
URL:https://stalexanderpalos.org/events/comedy-night/
END:VEVENT
BEGIN:VEVENT
DTSTART;TZID=America/Chicago:20170522T140000
DTEND;TZID=America/Chicago:20170522T153000
DTSTAMP:20260420T061626
CREATED:20170519T220258Z
LAST-MODIFIED:20170519T220334Z
UID:871-1495461600-1495467000@stalexanderpalos.org
SUMMARY:Domestic Violence Awareness Committee Meeting
DESCRIPTION:
URL:https://stalexanderpalos.org/events/domestic-violence-awareness-committee-meeting/
END:VEVENT
BEGIN:VEVENT
DTSTART;TZID=America/Chicago:20170523T140000
DTEND;TZID=America/Chicago:20170523T153000
DTSTAMP:20260420T061626
CREATED:20170519T231119Z
LAST-MODIFIED:20170519T231125Z
UID:915-1495548000-1495553400@stalexanderpalos.org
SUMMARY:School Advisory Council Meeting in Faculty Lounge
DESCRIPTION:
URL:https://stalexanderpalos.org/events/school-advisory-council-meeting-in-faculty-lounge/
END:VEVENT
BEGIN:VEVENT
DTSTART;TZID=America/Chicago:20170523T140000
DTEND;TZID=America/Chicago:20170523T160000
DTSTAMP:20260420T061626
CREATED:20170519T223924Z
LAST-MODIFIED:20170519T223924Z
UID:884-1495548000-1495555200@stalexanderpalos.org
SUMMARY:Fall Sports Final Registration Date
DESCRIPTION:
URL:https://stalexanderpalos.org/events/fall-sports-final-registration-date/
END:VEVENT
BEGIN:VEVENT
DTSTART;TZID=America/Chicago:20170524T140000
DTEND;TZID=America/Chicago:20170524T153000
DTSTAMP:20260420T061626
CREATED:20170519T220539Z
LAST-MODIFIED:20170519T220547Z
UID:874-1495634400-1495639800@stalexanderpalos.org
SUMMARY:Ministry Meeting
DESCRIPTION:
URL:https://stalexanderpalos.org/events/ministry-meeting/
END:VEVENT
BEGIN:VEVENT
DTSTART;VALUE=DATE:20170524
DTEND;VALUE=DATE:20170526
DTSTAMP:20260420T061626
CREATED:20170519T230800Z
LAST-MODIFIED:20170519T230822Z
UID:913-1495652400-1495738799@stalexanderpalos.org
SUMMARY:Preschool Graduation
DESCRIPTION:
URL:https://stalexanderpalos.org/events/preschool-graduation/
END:VEVENT
BEGIN:VEVENT
DTSTART;VALUE=DATE:20170529
DTEND;VALUE=DATE:20170531
DTSTAMP:20260420T061626
CREATED:20170519T230706Z
LAST-MODIFIED:20170519T230712Z
UID:911-1496084400-1496170799@stalexanderpalos.org
SUMMARY:8th Grade Graduation
DESCRIPTION:
URL:https://stalexanderpalos.org/events/8th-grade-graduation-2/
END:VEVENT
BEGIN:VEVENT
DTSTART;TZID=America/Chicago:20170531T063000
DTEND;TZID=America/Chicago:20170531T080000
DTSTAMP:20260420T061626
CREATED:20170519T225025Z
LAST-MODIFIED:20170519T225524Z
UID:899-1496212200-1496217600@stalexanderpalos.org
SUMMARY:Kindergarten Graduation
DESCRIPTION:
URL:https://stalexanderpalos.org/events/8th-grade-graduation/
END:VEVENT
END:VCALENDAR