BEGIN:VCALENDAR
VERSION:2.0
PRODID:-//stalexanderpalos.org - ECPv6.2.0.1//NONSGML v1.0//EN
CALSCALE:GREGORIAN
METHOD:PUBLISH
X-WR-CALNAME:stalexanderpalos.org
X-ORIGINAL-URL:https://stalexanderpalos.org
X-WR-CALDESC:Events for stalexanderpalos.org
REFRESH-INTERVAL;VALUE=DURATION:PT1H
X-Robots-Tag:noindex
X-PUBLISHED-TTL:PT1H
BEGIN:VTIMEZONE
TZID:America/Chicago
BEGIN:DAYLIGHT
TZOFFSETFROM:-0600
TZOFFSETTO:-0500
TZNAME:CDT
DTSTART:20170312T080000
END:DAYLIGHT
BEGIN:STANDARD
TZOFFSETFROM:-0500
TZOFFSETTO:-0600
TZNAME:CST
DTSTART:20171105T070000
END:STANDARD
BEGIN:DAYLIGHT
TZOFFSETFROM:-0600
TZOFFSETTO:-0500
TZNAME:CDT
DTSTART:20180311T080000
END:DAYLIGHT
BEGIN:STANDARD
TZOFFSETFROM:-0500
TZOFFSETTO:-0600
TZNAME:CST
DTSTART:20181104T070000
END:STANDARD
END:VTIMEZONE
BEGIN:VEVENT
DTSTART;TZID=America/Chicago:20180115T130000
DTEND;TZID=America/Chicago:20180115T140000
DTSTAMP:20260420T004520
CREATED:20180120T013207Z
LAST-MODIFIED:20180120T013229Z
UID:1605-1516021200-1516024800@stalexanderpalos.org
SUMMARY:Domestic Violence Ministry Meeting
DESCRIPTION:
URL:https://stalexanderpalos.org/events/domestic-violence-ministry-meeting-4/
END:VEVENT
BEGIN:VEVENT
DTSTART;TZID=America/Chicago:20180113T030000
DTEND;TZID=America/Chicago:20180113T050000
DTSTAMP:20260420T004520
CREATED:20180109T111439Z
LAST-MODIFIED:20180109T111450Z
UID:1543-1515812400-1515819600@stalexanderpalos.org
SUMMARY:Prayer Shawl Ministry
DESCRIPTION:
URL:https://stalexanderpalos.org/events/prayer-shawl-ministry-2/
END:VEVENT
BEGIN:VEVENT
DTSTART;TZID=America/Chicago:20180109T130000
DTEND;TZID=America/Chicago:20180109T143000
DTSTAMP:20260420T004520
CREATED:20180109T111208Z
LAST-MODIFIED:20180109T111217Z
UID:1540-1515502800-1515508200@stalexanderpalos.org
SUMMARY:Blue Army Prayer Group Meeting
DESCRIPTION:
URL:https://stalexanderpalos.org/events/blue-army-prayer-group-meeting-3/
END:VEVENT
BEGIN:VEVENT
DTSTART;TZID=America/Chicago:20171210T040000
DTEND;TZID=America/Chicago:20171210T060000
DTSTAMP:20260420T004520
CREATED:20171129T024909Z
LAST-MODIFIED:20171129T024937Z
UID:1448-1512878400-1512885600@stalexanderpalos.org
SUMMARY:Santa's Secret Workshop
DESCRIPTION:
URL:https://stalexanderpalos.org/events/santas-secret-workshop/
END:VEVENT
BEGIN:VEVENT
DTSTART;TZID=America/Chicago:20171208T150000
DTEND;TZID=America/Chicago:20171208T190000
DTSTAMP:20260420T004520
CREATED:20171201T055602Z
LAST-MODIFIED:20171201T055858Z
UID:1466-1512745200-1512759600@stalexanderpalos.org
SUMMARY:National Night of Prayer For Life
DESCRIPTION:
URL:https://stalexanderpalos.org/events/national-night-of-prayer-for-life/
END:VEVENT
BEGIN:VEVENT
DTSTART;TZID=America/Chicago:20171208T130000
DTEND;TZID=America/Chicago:20171208T140000
DTSTAMP:20260420T004520
CREATED:20171206T040034Z
LAST-MODIFIED:20171206T040119Z
UID:1483-1512738000-1512741600@stalexanderpalos.org
SUMMARY:Feast of the Immaculate Conception
DESCRIPTION:
URL:https://stalexanderpalos.org/events/feast-of-the-immaculate-conception-3/
END:VEVENT
BEGIN:VEVENT
DTSTART;TZID=America/Chicago:20171208T024500
DTEND;TZID=America/Chicago:20171208T033000
DTSTAMP:20260420T004520
CREATED:20171206T035900Z
LAST-MODIFIED:20171206T035919Z
UID:1481-1512701100-1512703800@stalexanderpalos.org
SUMMARY:Feast of the Immaculate Conception
DESCRIPTION:
URL:https://stalexanderpalos.org/events/feast-of-the-immaculate-conception-2/
END:VEVENT
BEGIN:VEVENT
DTSTART;TZID=America/Chicago:20171208T003000
DTEND;TZID=America/Chicago:20171208T011500
DTSTAMP:20260420T004520
CREATED:20171206T035623Z
LAST-MODIFIED:20171206T035744Z
UID:1479-1512693000-1512695700@stalexanderpalos.org
SUMMARY:Feast of the Immaculate Conception
DESCRIPTION:
URL:https://stalexanderpalos.org/events/feast-of-the-immaculate-conception/
END:VEVENT
BEGIN:VEVENT
DTSTART;TZID=America/Chicago:20171207T130000
DTEND;TZID=America/Chicago:20171207T140000
DTSTAMP:20260420T004520
CREATED:20171206T035445Z
LAST-MODIFIED:20171206T035500Z
UID:1477-1512651600-1512655200@stalexanderpalos.org
SUMMARY:Feast of the Immaculate Conception Vigil
DESCRIPTION:
URL:https://stalexanderpalos.org/events/feast-of-the-immaculate-conception-vigil/
END:VEVENT
BEGIN:VEVENT
DTSTART;TZID=America/Chicago:20171205T130000
DTEND;TZID=America/Chicago:20171205T130000
DTSTAMP:20260420T004520
CREATED:20171129T023805Z
LAST-MODIFIED:20171129T023853Z
UID:1432-1512478800-1512478800@stalexanderpalos.org
SUMMARY:Parish Reconciliation
DESCRIPTION:From 7:00 p.m. until all confessions are heard.
URL:https://stalexanderpalos.org/events/parish-reconciliation/
END:VEVENT
BEGIN:VEVENT
DTSTART;TZID=America/Chicago:20171202T103000
DTEND;TZID=America/Chicago:20171202T130000
DTSTAMP:20260420T004520
CREATED:20171129T024501Z
LAST-MODIFIED:20171129T024530Z
UID:1442-1512210600-1512219600@stalexanderpalos.org
SUMMARY:Prayer and Ministry Night
DESCRIPTION:
URL:https://stalexanderpalos.org/events/prayer-and-ministry-night-5/
END:VEVENT
BEGIN:VEVENT
DTSTART;TZID=America/Chicago:20171202T070000
DTEND;TZID=America/Chicago:20171202T090000
DTSTAMP:20260420T004520
CREATED:20171129T024051Z
LAST-MODIFIED:20171129T024119Z
UID:1436-1512198000-1512205200@stalexanderpalos.org
SUMMARY:Boy Scout Wreath Pick-Up
DESCRIPTION:
URL:https://stalexanderpalos.org/events/boy-scout-wreath-pick-up/
END:VEVENT
BEGIN:VEVENT
DTSTART;TZID=America/Chicago:20171130T031500
DTEND;TZID=America/Chicago:20171130T140000
DTSTAMP:20260420T004520
CREATED:20171129T024314Z
LAST-MODIFIED:20171129T024348Z
UID:1439-1512011700-1512050400@stalexanderpalos.org
SUMMARY:Eucharistic Adoration
DESCRIPTION:Please Note: Rosary is at 6:30 p.m.
URL:https://stalexanderpalos.org/events/eucharistic-adoration-4/
END:VEVENT
BEGIN:VEVENT
DTSTART;TZID=America/Chicago:20171125T020000
DTEND;TZID=America/Chicago:20171203T070000
DTSTAMP:20260420T004520
CREATED:20171129T024654Z
LAST-MODIFIED:20171129T024750Z
UID:1445-1511575200-1512284400@stalexanderpalos.org
SUMMARY:Sharing Tree
DESCRIPTION:
URL:https://stalexanderpalos.org/events/sharing-tree/
END:VEVENT
BEGIN:VEVENT
DTSTART;TZID=America/Chicago:20171119T060000
DTEND;TZID=America/Chicago:20171119T070000
DTSTAMP:20260420T004520
CREATED:20171107T043404Z
LAST-MODIFIED:20171107T043440Z
UID:1395-1511071200-1511074800@stalexanderpalos.org
SUMMARY:Annual Scout Mass
DESCRIPTION:
URL:https://stalexanderpalos.org/events/annual-scout-mass/
END:VEVENT
BEGIN:VEVENT
DTSTART;TZID=America/Chicago:20171112T013000
DTEND;TZID=America/Chicago:20171112T063000
DTSTAMP:20260420T004520
CREATED:20171107T043106Z
LAST-MODIFIED:20171107T043119Z
UID:1391-1510450200-1510468200@stalexanderpalos.org
SUMMARY:8th Grade Bake Sale
DESCRIPTION:
URL:https://stalexanderpalos.org/events/8th-grade-bake-sale-2/
END:VEVENT
BEGIN:VEVENT
DTSTART;TZID=America/Chicago:20171111T110000
DTEND;TZID=America/Chicago:20171111T120000
DTSTAMP:20260420T004520
CREATED:20171107T042955Z
LAST-MODIFIED:20171107T043008Z
UID:1389-1510398000-1510401600@stalexanderpalos.org
SUMMARY:8th Grade Bake Sale
DESCRIPTION:
URL:https://stalexanderpalos.org/events/8th-grade-bake-sale/
END:VEVENT
BEGIN:VEVENT
DTSTART;TZID=America/Chicago:20171111T030000
DTEND;TZID=America/Chicago:20171111T050000
DTSTAMP:20260420T004520
CREATED:20171107T043601Z
LAST-MODIFIED:20171107T043627Z
UID:1397-1510369200-1510376400@stalexanderpalos.org
SUMMARY:Prayer Shawl Ministry
DESCRIPTION:
URL:https://stalexanderpalos.org/events/prayer-shawl-ministry/
END:VEVENT
BEGIN:VEVENT
DTSTART;TZID=America/Chicago:20171110T024500
DTEND;TZID=America/Chicago:20171110T033000
DTSTAMP:20260420T004520
CREATED:20171107T043239Z
LAST-MODIFIED:20171107T043250Z
UID:1393-1510281900-1510284600@stalexanderpalos.org
SUMMARY:Veterans Day Mass
DESCRIPTION:
URL:https://stalexanderpalos.org/events/veterans-day-mass/
END:VEVENT
BEGIN:VEVENT
DTSTART;TZID=America/Chicago:20171108T130000
DTEND;TZID=America/Chicago:20171108T150000
DTSTAMP:20260420T004520
CREATED:20171107T043734Z
LAST-MODIFIED:20171107T043803Z
UID:1399-1510146000-1510153200@stalexanderpalos.org
SUMMARY:Knights of Columbus Meeting
DESCRIPTION:
URL:https://stalexanderpalos.org/events/knights-of-columbus-meeting-2/
END:VEVENT
BEGIN:VEVENT
DTSTART;TZID=America/Chicago:20171031T043000
DTEND;TZID=America/Chicago:20171031T053000
DTSTAMP:20260420T004520
CREATED:20170908T001648Z
LAST-MODIFIED:20170908T001659Z
UID:1149-1509424200-1509427800@stalexanderpalos.org
SUMMARY:Time For Twos
DESCRIPTION:
URL:https://stalexanderpalos.org/events/time-for-twos-4/
END:VEVENT
BEGIN:VEVENT
DTSTART;TZID=America/Chicago:20171024T043000
DTEND;TZID=America/Chicago:20171024T050000
DTSTAMP:20260420T004520
CREATED:20170908T001539Z
LAST-MODIFIED:20170908T001551Z
UID:1147-1508819400-1508821200@stalexanderpalos.org
SUMMARY:Time For Twos
DESCRIPTION:
URL:https://stalexanderpalos.org/events/time-for-twos-3/
END:VEVENT
BEGIN:VEVENT
DTSTART;TZID=America/Chicago:20171020T130000
DTEND;TZID=America/Chicago:20171020T170000
DTSTAMP:20260420T004520
CREATED:20171012T022431Z
LAST-MODIFIED:20171012T022451Z
UID:1333-1508504400-1508518800@stalexanderpalos.org
SUMMARY:(re)ENCOUNTER
DESCRIPTION:
URL:https://stalexanderpalos.org/events/reencounter/
END:VEVENT
BEGIN:VEVENT
DTSTART;TZID=America/Chicago:20171019T140000
DTEND;TZID=America/Chicago:20171019T163000
DTSTAMP:20260420T004520
CREATED:20171012T010643Z
LAST-MODIFIED:20171012T011754Z
UID:1309-1508421600-1508430600@stalexanderpalos.org
SUMMARY:Domestic Violence Presentation at St. Xavier
DESCRIPTION:
URL:https://stalexanderpalos.org/events/domestic-violence-presentation-at-st-xavier/
END:VEVENT
BEGIN:VEVENT
DTSTART;TZID=America/Chicago:20171017T043000
DTEND;TZID=America/Chicago:20171017T053000
DTSTAMP:20260420T004520
CREATED:20170908T001406Z
LAST-MODIFIED:20170908T001428Z
UID:1145-1508214600-1508218200@stalexanderpalos.org
SUMMARY:Time For Twos
DESCRIPTION:
URL:https://stalexanderpalos.org/events/time-for-twos-2/
END:VEVENT
BEGIN:VEVENT
DTSTART;TZID=America/Chicago:20171016T140000
DTEND;TZID=America/Chicago:20171016T153000
DTSTAMP:20260420T004520
CREATED:20171017T024031Z
LAST-MODIFIED:20171017T024049Z
UID:1342-1508162400-1508167800@stalexanderpalos.org
SUMMARY:Domestic Violence Ministry Meeting
DESCRIPTION:
URL:https://stalexanderpalos.org/events/domestic-violence-ministry-meeting-2/
END:VEVENT
BEGIN:VEVENT
DTSTART;TZID=America/Chicago:20171016T140000
DTEND;TZID=America/Chicago:20171016T153000
DTSTAMP:20260420T004520
CREATED:20171012T010324Z
LAST-MODIFIED:20171012T010348Z
UID:1306-1508162400-1508167800@stalexanderpalos.org
SUMMARY:Domestic Violence Ministry Meeting
DESCRIPTION:
URL:https://stalexanderpalos.org/events/domestic-violence-ministry-meeting/
END:VEVENT
BEGIN:VEVENT
DTSTART;TZID=America/Chicago:20171013T140000
DTEND;TZID=America/Chicago:20171013T153000
DTSTAMP:20260420T004520
CREATED:20171012T012026Z
LAST-MODIFIED:20171012T012058Z
UID:1318-1507903200-1507908600@stalexanderpalos.org
SUMMARY:Fatima Candle Light Rosary Procession
DESCRIPTION:
URL:https://stalexanderpalos.org/events/fatima-candle-light-rosary-procession/
END:VEVENT
BEGIN:VEVENT
DTSTART;TZID=America/Chicago:20171013T040000
DTEND;TZID=America/Chicago:20171013T110000
DTSTAMP:20260420T004520
CREATED:20171012T005913Z
LAST-MODIFIED:20171012T005948Z
UID:1299-1507867200-1507892400@stalexanderpalos.org
SUMMARY:Our Lady of Fatima
DESCRIPTION:
URL:https://stalexanderpalos.org/events/our-lady-of-fatima/
END:VEVENT
BEGIN:VEVENT
DTSTART;TZID=America/Chicago:20171013T040000
DTEND;TZID=America/Chicago:20171013T050000
DTSTAMP:20260420T004520
CREATED:20170908T004342Z
LAST-MODIFIED:20170908T005026Z
UID:1168-1507867200-1507870800@stalexanderpalos.org
SUMMARY:100th Anniversary of the Apparitions of Our Lady of Fatima Monthly Celebrations
DESCRIPTION:
URL:https://stalexanderpalos.org/events/100th-anniversary-of-the-apparitions-of-our-lady-of-fatima-monthly-celebrations-3/
LOCATION:St. Damian Parish\, 5250 155th Street\, Oak Forest \, IL
END:VEVENT
END:VCALENDAR