BEGIN:VCALENDAR
VERSION:2.0
PRODID:-//stalexanderpalos.org - ECPv6.2.0.1//NONSGML v1.0//EN
CALSCALE:GREGORIAN
METHOD:PUBLISH
X-ORIGINAL-URL:https://stalexanderpalos.org
X-WR-CALDESC:Events for stalexanderpalos.org
REFRESH-INTERVAL;VALUE=DURATION:PT1H
X-Robots-Tag:noindex
X-PUBLISHED-TTL:PT1H
BEGIN:VTIMEZONE
TZID:America/Chicago
BEGIN:DAYLIGHT
TZOFFSETFROM:-0600
TZOFFSETTO:-0500
TZNAME:CDT
DTSTART:20180311T080000
END:DAYLIGHT
BEGIN:STANDARD
TZOFFSETFROM:-0500
TZOFFSETTO:-0600
TZNAME:CST
DTSTART:20181104T070000
END:STANDARD
END:VTIMEZONE
BEGIN:VEVENT
DTSTART;TZID=America/Chicago:20180318T020000
DTEND;TZID=America/Chicago:20180318T083000
DTSTAMP:20260419T115008
CREATED:20180228T014913Z
LAST-MODIFIED:20180228T014920Z
UID:1941-1521338400-1521361800@stalexanderpalos.org
SUMMARY:Olive Wood Items from the Holy Land Sale
DESCRIPTION:
URL:https://stalexanderpalos.org/events/olive-wood-items-from-the-holy-land-sale-2/
END:VEVENT
END:VCALENDAR