BEGIN:VCALENDAR
VERSION:2.0
PRODID:-//stalexanderpalos.org - ECPv6.2.0.1//NONSGML v1.0//EN
CALSCALE:GREGORIAN
METHOD:PUBLISH
X-ORIGINAL-URL:https://stalexanderpalos.org
X-WR-CALDESC:Events for stalexanderpalos.org
REFRESH-INTERVAL;VALUE=DURATION:PT1H
X-Robots-Tag:noindex
X-PUBLISHED-TTL:PT1H
BEGIN:VTIMEZONE
TZID:America/Chicago
BEGIN:DAYLIGHT
TZOFFSETFROM:-0600
TZOFFSETTO:-0500
TZNAME:CDT
DTSTART:20180311T080000
END:DAYLIGHT
BEGIN:STANDARD
TZOFFSETFROM:-0500
TZOFFSETTO:-0600
TZNAME:CST
DTSTART:20181104T070000
END:STANDARD
END:VTIMEZONE
BEGIN:VEVENT
DTSTART;TZID=America/Chicago:20180314T130000
DTEND;TZID=America/Chicago:20180314T140000
DTSTAMP:20260419T134146
CREATED:20180215T103825Z
LAST-MODIFIED:20180215T103844Z
UID:1830-1521032400-1521036000@stalexanderpalos.org
SUMMARY:Rosary & Soup Night at Lake Katherine
DESCRIPTION:
URL:https://stalexanderpalos.org/events/rosary-soup-night-at-lake-katherine-3/
END:VEVENT
BEGIN:VEVENT
DTSTART;TZID=America/Chicago:20180314T140000
DTEND;TZID=America/Chicago:20180314T153000
DTSTAMP:20260419T134146
CREATED:20180314T094919Z
LAST-MODIFIED:20180314T094932Z
UID:1994-1521036000-1521041400@stalexanderpalos.org
SUMMARY:Knights of Columbus Meeting
DESCRIPTION:
URL:https://stalexanderpalos.org/events/knights-of-columbus-meeting-3/
END:VEVENT
END:VCALENDAR