BEGIN:VCALENDAR
VERSION:2.0
PRODID:-//stalexanderpalos.org - ECPv6.2.0.1//NONSGML v1.0//EN
CALSCALE:GREGORIAN
METHOD:PUBLISH
X-WR-CALNAME:stalexanderpalos.org
X-ORIGINAL-URL:https://stalexanderpalos.org
X-WR-CALDESC:Events for stalexanderpalos.org
REFRESH-INTERVAL;VALUE=DURATION:PT1H
X-Robots-Tag:noindex
X-PUBLISHED-TTL:PT1H
BEGIN:VTIMEZONE
TZID:America/Chicago
BEGIN:DAYLIGHT
TZOFFSETFROM:-0600
TZOFFSETTO:-0500
TZNAME:CDT
DTSTART:20180311T080000
END:DAYLIGHT
BEGIN:STANDARD
TZOFFSETFROM:-0500
TZOFFSETTO:-0600
TZNAME:CST
DTSTART:20181104T070000
END:STANDARD
END:VTIMEZONE
BEGIN:VEVENT
DTSTART;TZID=America/Chicago:20180310T024500
DTEND;TZID=America/Chicago:20180310T140000
DTSTAMP:20260419T134106
CREATED:20180209T074124Z
LAST-MODIFIED:20180209T074130Z
UID:1769-1520649900-1520690400@stalexanderpalos.org
SUMMARY:The Kingdom Retreat
DESCRIPTION:
URL:https://stalexanderpalos.org/events/the-kingdom-retreat/
END:VEVENT
BEGIN:VEVENT
DTSTART;TZID=America/Chicago:20180310T040000
DTEND;TZID=America/Chicago:20180310T050000
DTSTAMP:20260419T134106
CREATED:20180223T033514Z
LAST-MODIFIED:20180223T033522Z
UID:1889-1520654400-1520658000@stalexanderpalos.org
SUMMARY:Bunny Breakfast
DESCRIPTION:
URL:https://stalexanderpalos.org/events/bunny-breakfast/
END:VEVENT
BEGIN:VEVENT
DTSTART;TZID=America/Chicago:20180310T110000
DTEND;TZID=America/Chicago:20180310T120000
DTSTAMP:20260419T134106
CREATED:20180228T014135Z
LAST-MODIFIED:20180228T014148Z
UID:1933-1520679600-1520683200@stalexanderpalos.org
SUMMARY:8th Grade Bake Sale
DESCRIPTION:
URL:https://stalexanderpalos.org/events/8th-grade-bake-sale-3/
END:VEVENT
END:VCALENDAR