BEGIN:VCALENDAR
VERSION:2.0
PRODID:-//stalexanderpalos.org - ECPv6.2.0.1//NONSGML v1.0//EN
CALSCALE:GREGORIAN
METHOD:PUBLISH
X-ORIGINAL-URL:https://stalexanderpalos.org
X-WR-CALDESC:Events for stalexanderpalos.org
REFRESH-INTERVAL;VALUE=DURATION:PT1H
X-Robots-Tag:noindex
X-PUBLISHED-TTL:PT1H
BEGIN:VTIMEZONE
TZID:America/Chicago
BEGIN:DAYLIGHT
TZOFFSETFROM:-0600
TZOFFSETTO:-0500
TZNAME:CDT
DTSTART:20180311T080000
END:DAYLIGHT
BEGIN:STANDARD
TZOFFSETFROM:-0500
TZOFFSETTO:-0600
TZNAME:CST
DTSTART:20181104T070000
END:STANDARD
END:VTIMEZONE
BEGIN:VEVENT
DTSTART;VALUE=DATE:20180218
DTEND;VALUE=DATE:20180220
DTSTAMP:20260419T134148
CREATED:20180125T012830Z
LAST-MODIFIED:20180217T035049Z
UID:1685-1518976800-1519063199@stalexanderpalos.org
SUMMARY:Parish Office Closed - President's Day
DESCRIPTION:
URL:https://stalexanderpalos.org/events/parish-office-closed-presidents-day/
END:VEVENT
BEGIN:VEVENT
DTSTART;TZID=America/Chicago:20180219T130000
DTEND;TZID=America/Chicago:20180219T143000
DTSTAMP:20260419T134148
CREATED:20180215T103148Z
LAST-MODIFIED:20180215T103148Z
UID:1822-1519045200-1519050600@stalexanderpalos.org
SUMMARY:Domestic Violence Ministry Meeting
DESCRIPTION:
URL:https://stalexanderpalos.org/events/domestic-violence-ministry-meeting-3/
END:VEVENT
END:VCALENDAR