BEGIN:VCALENDAR
VERSION:2.0
PRODID:-//stalexanderpalos.org - ECPv6.2.0.1//NONSGML v1.0//EN
CALSCALE:GREGORIAN
METHOD:PUBLISH
X-WR-CALNAME:stalexanderpalos.org
X-ORIGINAL-URL:https://stalexanderpalos.org
X-WR-CALDESC:Events for stalexanderpalos.org
REFRESH-INTERVAL;VALUE=DURATION:PT1H
X-Robots-Tag:noindex
X-PUBLISHED-TTL:PT1H
BEGIN:VTIMEZONE
TZID:America/Chicago
BEGIN:DAYLIGHT
TZOFFSETFROM:-0600
TZOFFSETTO:-0500
TZNAME:CDT
DTSTART:20180311T080000
END:DAYLIGHT
BEGIN:STANDARD
TZOFFSETFROM:-0500
TZOFFSETTO:-0600
TZNAME:CST
DTSTART:20181104T070000
END:STANDARD
END:VTIMEZONE
BEGIN:VEVENT
DTSTART;TZID=America/Chicago:20180214T003000
DTEND;TZID=America/Chicago:20180214T011500
DTSTAMP:20260419T134102
CREATED:20180209T072744Z
LAST-MODIFIED:20180209T073344Z
UID:1759-1518568200-1518570900@stalexanderpalos.org
SUMMARY:Ash Wednesday Mass
DESCRIPTION:
URL:https://stalexanderpalos.org/events/ash-wednesday/
END:VEVENT
BEGIN:VEVENT
DTSTART;TZID=America/Chicago:20180214T024500
DTEND;TZID=America/Chicago:20180214T033000
DTSTAMP:20260419T134102
CREATED:20180209T072924Z
LAST-MODIFIED:20180209T072930Z
UID:1761-1518576300-1518579000@stalexanderpalos.org
SUMMARY:Ash Wednesday Mass
DESCRIPTION:
URL:https://stalexanderpalos.org/events/ash-wednesday-mass/
END:VEVENT
BEGIN:VEVENT
DTSTART;TZID=America/Chicago:20180214T103000
DTEND;TZID=America/Chicago:20180214T110000
DTSTAMP:20260419T134102
CREATED:20180209T073028Z
LAST-MODIFIED:20180209T073058Z
UID:1763-1518604200-1518606000@stalexanderpalos.org
SUMMARY:Ash Wednesday Prayer Service
DESCRIPTION:
URL:https://stalexanderpalos.org/events/ash-wednesday-prayer-service/
END:VEVENT
BEGIN:VEVENT
DTSTART;TZID=America/Chicago:20180214T130000
DTEND;TZID=America/Chicago:20180214T134500
DTSTAMP:20260419T134102
CREATED:20180209T073259Z
LAST-MODIFIED:20180209T073304Z
UID:1766-1518613200-1518615900@stalexanderpalos.org
SUMMARY:Ash Wednesday Mass
DESCRIPTION:
URL:https://stalexanderpalos.org/events/ash-wednesday-mass-2/
END:VEVENT
END:VCALENDAR