BEGIN:VCALENDAR
VERSION:2.0
PRODID:-//stalexanderpalos.org - ECPv6.2.0.1//NONSGML v1.0//EN
CALSCALE:GREGORIAN
METHOD:PUBLISH
X-ORIGINAL-URL:https://stalexanderpalos.org
X-WR-CALDESC:Events for stalexanderpalos.org
REFRESH-INTERVAL;VALUE=DURATION:PT1H
X-Robots-Tag:noindex
X-PUBLISHED-TTL:PT1H
BEGIN:VTIMEZONE
TZID:America/Chicago
BEGIN:DAYLIGHT
TZOFFSETFROM:-0600
TZOFFSETTO:-0500
TZNAME:CDT
DTSTART:20180311T080000
END:DAYLIGHT
BEGIN:STANDARD
TZOFFSETFROM:-0500
TZOFFSETTO:-0600
TZNAME:CST
DTSTART:20181104T070000
END:STANDARD
END:VTIMEZONE
BEGIN:VEVENT
DTSTART;TZID=America/Chicago:20180129T040000
DTEND;TZID=America/Chicago:20180129T050000
DTSTAMP:20260419T134152
CREATED:20180125T010150Z
LAST-MODIFIED:20180125T011147Z
UID:1661-1517198400-1517202000@stalexanderpalos.org
SUMMARY:Knights of Columbus Free Throw Competition
DESCRIPTION:
URL:https://stalexanderpalos.org/events/knights-of-columbus-free-throw-competition/
END:VEVENT
BEGIN:VEVENT
DTSTART;TZID=America/Chicago:20180129T070000
DTEND;TZID=America/Chicago:20180129T080000
DTSTAMP:20260419T134152
CREATED:20180125T012018Z
LAST-MODIFIED:20180125T012025Z
UID:1673-1517209200-1517212800@stalexanderpalos.org
SUMMARY:Book Fair in Room 311
DESCRIPTION:
URL:https://stalexanderpalos.org/events/book-fair-in-room-311-3/
END:VEVENT
BEGIN:VEVENT
DTSTART;TZID=America/Chicago:20180129T130000
DTEND;TZID=America/Chicago:20180129T140000
DTSTAMP:20260419T134152
CREATED:20180109T112338Z
LAST-MODIFIED:20180125T005812Z
UID:1552-1517230800-1517234400@stalexanderpalos.org
SUMMARY:Parish Mission
DESCRIPTION:
URL:https://stalexanderpalos.org/events/parish-mission-2/
END:VEVENT
END:VCALENDAR