BEGIN:VCALENDAR
VERSION:2.0
PRODID:-//stalexanderpalos.org - ECPv6.2.0.1//NONSGML v1.0//EN
CALSCALE:GREGORIAN
METHOD:PUBLISH
X-WR-CALNAME:stalexanderpalos.org
X-ORIGINAL-URL:https://stalexanderpalos.org
X-WR-CALDESC:Events for stalexanderpalos.org
REFRESH-INTERVAL;VALUE=DURATION:PT1H
X-Robots-Tag:noindex
X-PUBLISHED-TTL:PT1H
BEGIN:VTIMEZONE
TZID:America/Chicago
BEGIN:DAYLIGHT
TZOFFSETFROM:-0600
TZOFFSETTO:-0500
TZNAME:CDT
DTSTART:20170312T080000
END:DAYLIGHT
BEGIN:STANDARD
TZOFFSETFROM:-0500
TZOFFSETTO:-0600
TZNAME:CST
DTSTART:20171105T070000
END:STANDARD
END:VTIMEZONE
BEGIN:VEVENT
DTSTART;TZID=America/Chicago:20171208T003000
DTEND;TZID=America/Chicago:20171208T011500
DTSTAMP:20260419T190055
CREATED:20171206T035623Z
LAST-MODIFIED:20171206T035744Z
UID:1479-1512693000-1512695700@stalexanderpalos.org
SUMMARY:Feast of the Immaculate Conception
DESCRIPTION:
URL:https://stalexanderpalos.org/events/feast-of-the-immaculate-conception/
END:VEVENT
BEGIN:VEVENT
DTSTART;TZID=America/Chicago:20171208T024500
DTEND;TZID=America/Chicago:20171208T033000
DTSTAMP:20260419T190055
CREATED:20171206T035900Z
LAST-MODIFIED:20171206T035919Z
UID:1481-1512701100-1512703800@stalexanderpalos.org
SUMMARY:Feast of the Immaculate Conception
DESCRIPTION:
URL:https://stalexanderpalos.org/events/feast-of-the-immaculate-conception-2/
END:VEVENT
BEGIN:VEVENT
DTSTART;TZID=America/Chicago:20171208T130000
DTEND;TZID=America/Chicago:20171208T140000
DTSTAMP:20260419T190055
CREATED:20171206T040034Z
LAST-MODIFIED:20171206T040119Z
UID:1483-1512738000-1512741600@stalexanderpalos.org
SUMMARY:Feast of the Immaculate Conception
DESCRIPTION:
URL:https://stalexanderpalos.org/events/feast-of-the-immaculate-conception-3/
END:VEVENT
BEGIN:VEVENT
DTSTART;TZID=America/Chicago:20171208T150000
DTEND;TZID=America/Chicago:20171208T190000
DTSTAMP:20260419T190055
CREATED:20171201T055602Z
LAST-MODIFIED:20171201T055858Z
UID:1466-1512745200-1512759600@stalexanderpalos.org
SUMMARY:National Night of Prayer For Life
DESCRIPTION:
URL:https://stalexanderpalos.org/events/national-night-of-prayer-for-life/
END:VEVENT
END:VCALENDAR