BEGIN:VCALENDAR
VERSION:2.0
PRODID:-//stalexanderpalos.org - ECPv6.2.0.1//NONSGML v1.0//EN
CALSCALE:GREGORIAN
METHOD:PUBLISH
X-ORIGINAL-URL:https://stalexanderpalos.org
X-WR-CALDESC:Events for stalexanderpalos.org
REFRESH-INTERVAL;VALUE=DURATION:PT1H
X-Robots-Tag:noindex
X-PUBLISHED-TTL:PT1H
BEGIN:VTIMEZONE
TZID:America/Chicago
BEGIN:DAYLIGHT
TZOFFSETFROM:-0600
TZOFFSETTO:-0500
TZNAME:CDT
DTSTART:20170312T080000
END:DAYLIGHT
BEGIN:STANDARD
TZOFFSETFROM:-0500
TZOFFSETTO:-0600
TZNAME:CST
DTSTART:20171105T070000
END:STANDARD
END:VTIMEZONE
BEGIN:VEVENT
DTSTART;TZID=America/Chicago:20170819T030000
DTEND;TZID=America/Chicago:20170819T070000
DTSTAMP:20260420T020212
CREATED:20170803T010317Z
LAST-MODIFIED:20170803T010317Z
UID:985-1503111600-1503126000@stalexanderpalos.org
SUMMARY:The 100th Anniversary of the 4th Apparition of Our Lady of Fatima
DESCRIPTION:
URL:https://stalexanderpalos.org/events/the-100th-anniversary-of-the-4th-apparition-of-our-lady-of-fatima/
END:VEVENT
END:VCALENDAR