BEGIN:VCALENDAR
VERSION:2.0
PRODID:-//stalexanderpalos.org - ECPv6.2.0.1//NONSGML v1.0//EN
CALSCALE:GREGORIAN
METHOD:PUBLISH
X-ORIGINAL-URL:https://stalexanderpalos.org
X-WR-CALDESC:Events for stalexanderpalos.org
REFRESH-INTERVAL;VALUE=DURATION:PT1H
X-Robots-Tag:noindex
X-PUBLISHED-TTL:PT1H
BEGIN:VTIMEZONE
TZID:America/Chicago
BEGIN:DAYLIGHT
TZOFFSETFROM:-0600
TZOFFSETTO:-0500
TZNAME:CDT
DTSTART:20170312T080000
END:DAYLIGHT
BEGIN:STANDARD
TZOFFSETFROM:-0500
TZOFFSETTO:-0600
TZNAME:CST
DTSTART:20171105T070000
END:STANDARD
END:VTIMEZONE
BEGIN:VEVENT
DTSTART;VALUE=DATE:20170610
DTEND;VALUE=DATE:20170618
DTSTAMP:20260420T045404
CREATED:20170519T224130Z
LAST-MODIFIED:20170519T224149Z
UID:888-1497121200-1497725999@stalexanderpalos.org
SUMMARY:Life Teen Mission Trip
DESCRIPTION:
URL:https://stalexanderpalos.org/events/life-teen-mission-trip/
END:VEVENT
END:VCALENDAR